Workbook

Sheet Vista Ridge Assumptions
A1: VISTA RIDGE APARTMENTS - ASSUMPTIONS
A2: Prepared by: | B2: Nik Wittenfeld
A3: Date: | B3: 46293
A5: DEAL OVERVIEW
A6: Property Name | B6: Vista Ridge Apartments
A7: Address | B7: 201 Mt Park Blvd SW, Issaquah, WA 98027
A8: Year Built | B8: 1994
A9: Total Units | B9: 91
A10: Total NRSF | B10: 100646
A11: Avg Unit SF | B11: 1106
A13: TRANSACTION (Actual - August 2026)
A14: Purchase Price | B14: 37000000
A15: Purchase Price Per Unit | B15: 406593
A16: Purchase Price Per SF | B16: 368
A17: Acquisition Costs | B17: 0.02
A18: Acquisition Costs ($) | B18: =B14*B17 -> 740000
A20: UNIT MIX & IN-PLACE RENT
A21: Peak (2BR/2BA, 1,038 SF) | B21: 3000
A22: Ridge (2BR/2BA, 1,088 SF) | B22: 3050
A23: Trail (3BR/2BA, 1,207 SF) | B23: 3300
A24: Weighted Avg In-Place Rent | B24: 3050
A25: In-Place Gross Potential Rent (Annual) | B25: =B24*B9*12 -> 3330600
A27: OCCUPANCY & OPERATIONS
A28: In-Place Physical Occupancy | B28: 0.94
A29: Stabilized Occupancy Target | B29: 0.95
A30: Bad Debt / Concessions (% GPR) | B30: 0.02
A31: Other Income (% of GPR) | B31: 0.045
A32: Operating Expense Ratio (% of EGI) | B32: 0.34
A34: RENOVATION PROGRAM
A35: Units to Renovate | B35: 55
A36: Cost Per Unit (Interior) | B36: 20000
A37: Total Interior CapEx | B37: =B35*B36 -> 1100000
A38: Common Area CapEx | B38: 650000
A39: Total Renovation Budget | B39: =B37+B38 -> 1750000
A40: Rent Premium Per Renovated Unit | B40: 275
A42: FINANCING
A43: LTV | B43: 0.6
A44: Loan Amount | B44: =B14*B43 -> 22200000
A45: Interest Rate (Fixed, 5-Yr Agency) | B45: 0.0585
A46: Amortization (Years) | B46: 30
...

Sheet Vista Ridge Rent Roll & Renovat
A1: VISTA RIDGE APARTMENTS - RENT ROLL & RENOVATION SCHEDULE
A3: UNIT MIX & RENT ROLL
A4: Floor Plan | B4: Unit Type | C4: SF | D4: # Units | E4: % of Total | F4: In-Place Rent | G4: Post-Reno Rent | H4: Rent Premium
A5: Peak | B5: 2BR / 2BA | C5: 1038 | D5: 26 | E5: =D5/$D$8 -> 0.28571429 | F5: 3000 | G5: =F5+275 -> 3275 | H5: =G5-F5 -> 275
A6: Ridge | B6: 2BR / 2BA | C6: 1088 | D6: 40 | E6: =D6/$D$8 -> 0.43956044 | F6: 3050 | G6: =F6+275 -> 3325 | H6: =G6-F6 -> 275
A7: Trail | B7: 3BR / 2BA | C7: 1207 | D7: 25 | E7: =D7/$D$8 -> 0.27472527 | F7: 3300 | G7: =F7+275 -> 3575 | H7: =G7-F7 -> 275
A8: TOTAL / Wtd Avg | C8: =SUMPRODUCT(C5:C7, D5:D7)/D8 -> 1106.4066 | D8: =SUM(D5:D7) -> 91 | E8: =SUM(E5:E7) -> 1 | F8: =SUMPRODUCT(F5:F7, D5:D7)/D8 -> 3104.3956 | G8: =SUMPRODUCT(G5:G7, D5:D7)/D8 -> 3379.3956 | H8: =G8-F8 -> 275
A10: ANNUAL GROSS POTENTIAL RENT
A11: In-Place Annual GPR | B11: =SUMPRODUCT(F5:F7, D5:D7)*12 -> 3390000
A12: Post-Reno Annual GPR | B12: =SUMPRODUCT(G5:G7, D5:D7)*12 -> 3690300
A13: Annual Rent Uplift from Renovation | B13: =B12-B11 -> 300300
A15: RENOVATION SCHEDULE
A16: Year | B16: Units Renovated | C16: Cumulative Renovated | D16: Cumulative % of Total | E16: Interior CapEx Spent | F16: Common Area CapEx | G16: Total Period CapEx
A17: Year 1 | B17: 30 | C17: =B17 -> 30 | D17: =C17/$D$8 -> 0.32967033 | E17: =B17*'Vista Ridge Assumptions'!$B$36 -> 600000 | F17: 400000 | G17: =E17+F17 -> 1000000
A18: Year 2 | B18: 25 | C18: =C17+B18 -> 55 | D18: =C18/$D$8 -> 0.6043956 | E18: =B18*'Vista Ridge Assumptions'!$B$36 -> 500000 | F18: 250000 | G18: =E18+F18 -> 750000
A19: Year 3 | B19: 0 | C19: =C18 -> 55 | D19: =C19/$D$8 -> 0.6043956 | E19: 0 | F19: 0 | G19: =E19+F19 -> 0
A20: Year 4 | B20: 0 | C20: =C19 -> 55 | D20: =C20/$D$8 -> 0.6043956 | E20: 0 | F20: 0 | G20: =E20+F20 -> 0
A21: Year 5 | B21: 0 | C21: =C20 -> 55 | D21: =C21/$D$8 -> 0.6043956 | E21: 0 | F21: 0 | G21: =E21+F21 -> 0
A22: TOTAL | B22: =SUM(B17:B21) -> 55 | D22: =C21/$D$8 -> 0.6043956 | E22: =SUM(E17:E21) -> 1100000 | F22: =SUM(F17:F21) -> 650000 | G22: =SUM(G17:G21) -> 1750000
A24: RENOVATION STRATEGY NOTES
A25: Total Units | B25: ='Vista Ridge Assumptions'!B9 -> 91
A26: Units to Renovate | B26: =B22 -> 55
A27: Units Not Renovated (Prior Ownership Refresh) | B27: =B25-B26 -> 36
A28: % of Property Renovated | B28: =B26/B25 -> 0.6043956
A29: Blended Rent Premium (Weighted) | B29: =B28*275 -> 166.20879

Sheet Operating Model
A1: VISTA RIDGE APARTMENTS - 5-YEAR OPERATING MODEL
A3: PRO FORMA
B4: Year 0 | C4: Year 1 | D4: Year 2 | E4: Year 3 | F4: Year 4 | G4: Year 5
A6: REVENUE
A7: Gross Potential Rent (Market Growth) | B7: ='Vista Ridge Rent Roll & Renovat'!B11 -> 3390000 | C7: =B7*(1+'Vista Ridge Assumptions'!$B$51) -> 3491700 | D7: =C7*(1+'Vista Ridge Assumptions'!$B$52) -> 3613909.5 | E7: =D7*(1+'Vista Ridge Assumptions'!$B$52) -> 3740396.3 | F7: =E7*(1+'Vista Ridge Assumptions'!$B$52) -> 3871310.2 | G7: =F7*(1+'Vista Ridge Assumptions'!$B$52) -> 4006806.1
A8: (+) Reno Premium Capture | B8: 0 | C8: 49500 | D8: 140250 | E8: 181500 | F8: 181500 | G8: 181500
A9: Total Gross Potential Rent | B9: =B7+B8 -> 3390000 | C9: =C7+C8 -> 3541200 | D9: =D7+D8 -> 3754159.5 | E9: =E7+E8 -> 3921896.3 | F9: =F7+F8 -> 4052810.2 | G9: =G7+G8 -> 4188306.1
A10: (-) Vacancy Loss | B10: =-B9*(1-'Vista Ridge Assumptions'!$B$28) -> -203400 | C10: =-C9*(1-'Vista Ridge Assumptions'!$B$28) -> -212472 | D10: =-D9*(1-'Vista Ridge Assumptions'!$B$28) -> -225249.57 | E10: =-E9*(1-'Vista Ridge Assumptions'!$B$28) -> -235313.78 | F10: =-F9*(1-'Vista Ridge Assumptions'!$B$28) -> -243168.61 | G10: =-G9*(1-'Vista Ridge Assumptions'!$B$28) -> -251298.36
A11: (-) Bad Debt / Conessions | B11: =-B9*'Vista Ridge Assumptions'!$B$30 -> -67800 | C11: =-C9*'Vista Ridge Assumptions'!$B$30 -> -70824 | D11: =-D9*'Vista Ridge Assumptions'!$B$30 -> -75083.19 | E11: =-E9*'Vista Ridge Assumptions'!$B$30 -> -78437.927 | F11: =-F9*'Vista Ridge Assumptions'!$B$30 -> -81056.204 | G11: =-G9*'Vista Ridge Assumptions'!$B$30 -> -83766.121
A12: Effective Gross Rent | B12: =SUM(B9:B11) -> 3118800 | C12: =SUM(C9:C11) -> 3257904 | D12: =SUM(D9:D11) -> 3453826.7 | E12: =SUM(E9:E11) -> 3608144.6 | F12: =SUM(F9:F11) -> 3728585.4 | G12: =SUM(G9:G11) -> 3853241.6
A13: (+) Other Income | B13: =B9*'Vista Ridge Assumptions'!$B$31 -> 152550 | C13: =C9*'Vista Ridge Assumptions'!$B$31 -> 159354 | D13: =D9*'Vista Ridge Assumptions'!$B$31 -> 168937.18 | E13: =E9*'Vista Ridge Assumptions'!$B$31 -> 176485.33 | F13: =F9*'Vista Ridge Assumptions'!$B$31 -> 182376.46 | G13: =G9*'Vista Ridge Assumptions'!$B$31 -> 188473.77
A14: Effective Gross Income | B14: =B12+B13 -> 3271350 | C14: =C12+C13 -> 3417258 | D14: =D12+D13 -> 3622763.9 | E14: =E12+E13 -> 3784630 | F14: =F12+F13 -> 3910961.8 | G14: =G12+G13 -> 4041715.3
A16: OPERATING EXPENSES
A17: Property Taxes | B17: =B14*0.13 -> 425275.5 | C17: =B17*(1+'Vista Ridge Assumptions'!$B$53) -> 438033.77 | D17: =C17*(1+'Vista Ridge Assumptions'!$B$53) -> 451174.78 | E17: =D17*(1+'Vista Ridge Assumptions'!$B$53) -> 464710.02 | F17: =E17*(1+'Vista Ridge Assumptions'!$B$53) -> 478651.32 | G17: =F17*(1+'Vista Ridge Assumptions'!$B$53) -> 493010.86
A18: Insurance | B18: =B14*0.04 -> 130854 | C18: =B18*(1+'Vista Ridge Assumptions'!$B$53) -> 134779.62 | D18: =C18*(1+'Vista Ridge Assumptions'!$B$53) -> 138823.01 | E18: =D18*(1+'Vista Ridge Assumptions'!$B$53) -> 142987.7 | F18: =E18*(1+'Vista Ridge Assumptions'!$B$53) -> 147277.33 | G18: =F18*(1+'Vista Ridge Assumptions'!$B$53) -> 151695.65
A19: Repairs and Maintenance | B19: =B14*0.05 -> 163567.5 | C19: =B19*(1+'Vista Ridge Assumptions'!$B$53) -> 168474.52 | D19: =C19*(1+'Vista Ridge Assumptions'!$B$53) -> 173528.76 | E19: =D19*(1+'Vista Ridge Assumptions'!$B$53) -> 178734.62 | F19: =E19*(1+'Vista Ridge Assumptions'!$B$53) -> 184096.66 | G19: =F19*(1+'Vista Ridge Assumptions'!$B$53) -> 189619.56
A20: Utilities | B20: =B14*0.04 -> 130854 | C20: =B20*(1+'Vista Ridge Assumptions'!$B$53) -> 134779.62 | D20: =C20*(1+'Vista Ridge Assumptions'!$B$53) -> 138823.01 | E20: =D20*(1+'Vista Ridge Assumptions'!$B$53) -> 142987.7 | F20: =E20*(1+'Vista Ridge Assumptions'!$B$53) -> 147277.33 | G20: =F20*(1+'Vista Ridge Assumptions'!$B$53) -> 151695.65
A21: Property Management (3% of EGI) | B21: =B14*0.03 -> 98140.5 | C21: =C14*0.03 -> 102517.74 | D21: =D14*0.03 -> 108682.92 | E21: =E14*0.03 -> 113538.9 | F21: =F14*0.03 -> 117328.86 | G21: =G14*0.03 -> 121251.46
A22: Payroll & Admin | B22: =B14*0.04 -> 130854 | C22: =B22*(1+'Vista Ridge Assumptions'!$B$53) -> 134779.62 | D22: =C22*(1+'Vista Ridge Assumptions'!$B$53) -> 138823.01 | E22: =D22*(1+'Vista Ridge Assumptions'!$B$53) -> 142987.7 | F22: =E22*(1+'Vista Ridge Assumptions'!$B$53) -> 147277.33 | G22: =F22*(1+'Vista Ridge Assumptions'!$B$53) -> 151695.65
A23: Marketing | B23: =B14*0.01 -> 32713.5 | C23: =B23*(1+'Vista Ridge Assumptions'!$B$53) -> 33694.905 | D23: =C23*(1+'Vista Ridge Assumptions'!$B$53) -> 34705.752 | E23: =D23*(1+'Vista Ridge Assumptions'!$B$53) -> 35746.925 | F23: =E23*(1+'Vista Ridge Assumptions'!$B$53) -> 36819.332 | G23: =F23*(1+'Vista Ridge Assumptions'!$B$53) -> 37923.912
A24: Total Operating Expenses | B24: =SUM(B17:B23) -> 1112259 | C24: =SUM(C17:C23) -> 1147059.8 | D24: =SUM(D17:D23) -> 1184561.2 | E24: =SUM(E17:E23) -> 1221693.6 | F24: =SUM(F17:F23) -> 1258728.2 | G24: =SUM(G17:G23) -> 1296892.7
A25: Operating Expense Ratio | B25: =B24/B14 -> 0.34 | C25: =C24/C14 -> 0.33566672 | D25: =D24/D14 -> 0.32697721 | E25: =E24/E14 -> 0.32280397 | F25: =F24/F14 -> 0.32184619 | G25: =G24/G14 -> 0.32087681
A27: NET OPERATING INCOME
A28: NOI | B28: =B14-B24 -> 2159091 | C28: =C14-C24 -> 2270198.2 | D28: =D14-D24 -> 2438202.7 | E28: =E14-E24 -> 2562936.4 | F28: =F14-F24 -> 2652233.7 | G28: =G14-G24 -> 2744822.6
A29: NOI Growth vs Prior Year | B29: - | C29: =C28/B28-1 -> 0.051460177 | D29: =D28/C28-1 -> 0.074004322 | E29: =E28/D28-1 -> 0.051158057 | F29: =F28/E28-1 -> 0.034841789 | G29: =G28/F28-1 -> 0.034909789
A31: CAPITAL EXPENDITURES
A32: Routine CapEx Reserves | B32: ='Vista Ridge Assumptions'!$B$9*300 -> 27300 | C32: =B32*(1+'Vista Ridge Assumptions'!$B$53) -> 28119 | D32: =C32*(1+'Vista Ridge Assumptions'!$B$53) -> 28962.57 | E32: =D32*(1+'Vista Ridge Assumptions'!$B$53) -> 29831.447 | F32: =E32*(1+'Vista Ridge Assumptions'!$B$53) -> 30726.391 | G32: =F32*(1+'Vista Ridge Assumptions'!$B$53) -> 31648.182
A33: Renovation Program CapEx | B33: 0 | C33: ='Vista Ridge Rent Roll & Renovat'!G17 -> 1000000 | D33: ='Vista Ridge Rent Roll & Renovat'!G18 -> 750000 | E33: 0 | F33: 0 | G33: 0
A34: Total CapEx | B34: =B32+B33 -> 27300 | C34: =C32+C33 -> 1028119 | D34: =D32+D33 -> 778962.57 | E34: =E32+E33 -> 29831.447 | F34: =F32+F33 -> 30726.391 | G34: =G32+G33 -> 31648.182

Sheet S&U + Debt Schedule
A1: VISTA RIDGE APARTMENTS - SOURCES & USES + DEBT SCHEDULE
A3: SOURCES & USES
A5: USES
A6: Purchase Price | B6: ='Vista Ridge Assumptions'!B14 -> 37000000
A7: Acquisition Costs (2%) | B7: ='Vista Ridge Assumptions'!B18 -> 740000
A8: Renovation Reserve | B8: ='Vista Ridge Rent Roll & Renovat'!G22 -> 1750000
A9: Working Capital / Closing Reserve | B9: 250000
A10: Total Uses | B10: =SUM(B6:B9) -> 39740000
A12: SOURCES
A13: Senior Debt (60% LTV) | B13: ='Vista Ridge Assumptions'!B44 -> 22200000
A14: Total Equity Required | B14: =B10-B13 -> 17540000
A15: Total Sources | B15: =B13+B14 -> 39740000
A16: Check (Sources - Uses) | B16: =B15-B10 -> 0
A18: LTV (Loan / Purchase Price | B18: =B13/B6 -> 0.6
A19: LTC (Loan / Total Cost) | B19: =B13/B10 -> 0.5586311
A20: Equity as % of Uses | B20: =B14/B10 -> 0.4413689
A22: DEBT SCHEDULE
A24: Annual Debt Service (During Amortization) | B24: =-PMT('Vista Ridge Assumptions'!$B$45, 'Vista Ridge Assumptions'!$B$46, 'Vista Ridge Assumptions'!$B$44) -> 1587005.2
B26: Loan Origination | C26: Year 1 | D26: Year 2 | E26: Year 3 | F26: Year 4 | G26: Year 5
A27: Beginning Balance | B27: 0 | C27: ='Vista Ridge Assumptions'!$B$44 -> 22200000 | D27: =C30 -> 22200000 | E27: =D30 -> 22200000 | F27: =E30 -> 21911695 | G27: =F30 -> 21606524
A28: (-) Interest Payment | B28: 0 | C28: =C27*'Vista Ridge Assumptions'!$B$45 -> 1298700 | D28: =D27*'Vista Ridge Assumptions'!$B$45 -> 1298700 | E28: =E27*'Vista Ridge Assumptions'!$B$45 -> 1298700 | F28: =F27*'Vista Ridge Assumptions'!$B$45 -> 1281834.1 | G28: =G27*'Vista Ridge Assumptions'!$B$45 -> 1263981.6
A29: (-) Principal Payment | B29: 0 | C29: 0 | D29: 0 | E29: =$B$24-E28 -> 288305.2 | F29: =$B$24-F28 -> 305171.06 | G29: =$B$24-G28 -> 323023.56
A30: Ending Balance | B30: 0 | C30: =C27-C29 -> 22200000 | D30: =D27-D29 -> 22200000 | E30: =E27-E29 -> 21911695 | F30: =F27-F29 -> 21606524 | G30: =G27-G29 -> 21283500
A31: Total Debt Service | B31: 0 | C31: =C28+C29 -> 1298700 | D31: =D28+D29 -> 1298700 | E31: =E28+E29 -> 1587005.2 | F31: =F28+F29 -> 1587005.2 | G31: =G28+G29 -> 1587005.2
A33: DSCR ANALYSIS
A34: NOI (from Operating Model) | B34: ='Operating Model'!B28 -> 2159091 | C34: ='Operating Model'!C28 -> 2270198.2 | D34: ='Operating Model'!D28 -> 2438202.7 | E34: ='Operating Model'!E28 -> 2562936.4 | F34: ='Operating Model'!F28 -> 2652233.7 | G34: ='Operating Model'!G28 -> 2744822.6
A35: Total Debt Service | B35: =B31 -> 0 | C35: =C31 -> 1298700 | D35: =D31 -> 1298700 | E35: =E31 -> 1587005.2 | F35: =F31 -> 1587005.2 | G35: =G31 -> 1587005.2
A36: DSCR (NOI / Debt Service) | B36: - | C36: =C34/C35 -> 1.7480544 | D36: =D34/D35 -> 1.8774179 | E36: =E34/E35 -> 1.6149515 | F36: =F34/F35 -> 1.6712193 | G36: =G34/G35 -> 1.7295612
A38: EXIT LOAN PAYOFF
A39: Loan Balance at Exit (Year 5 Ending) | B39: =G30 -> 21283500
A40: Total Principal Paid During Hold | B40: ='Vista Ridge Assumptions'!$B$44-'S&U + Debt Schedule'!B39 -> 916499.82
A41: Prinicpal Paid as % of Original Loan | B41: =B40/'Vista Ridge Assumptions'!$B$44 -> 0.041283776

Sheet Returns
A1: VISTA RIDGE APARTMENTS - RETURNS ANALYSIS
A3: EXIT VALUATION (YEAR 5 SALE)
A5: Year 5 STABILIZED NOI | B5: ='Operating Model'!G28 -> 2744822.6
A6: Exit Cap Rate | B6: ='Vista Ridge Assumptions'!$B$57 -> 0.0515
A7: Gross, Sale Price | B7: =B5/B6 -> 53297526
A8: (-) Cost of Sale (1.5%) | B8: =-B7*'Vista Ridge Assumptions'!$B$58 -> -799462.89
A9: Net Sale Proceeds | B9: =B7+B8 -> 52498063
A10: (-) Loan Payoff at Exit | B10: =-'S&U + Debt Schedule'!B39 -> -21283500
A11: Net Equity Proceeds at Exit | B11: =B9+B10 -> 31214563
A13: Total Value Created (Sale Price - Purchase Price) | B13: =B7-'Vista Ridge Assumptions'!$B$14 -> 16297526
A14: Sale Price Per Unit | B14: =B7/'Vista Ridge Assumptions'!$B$9 -> 585687.1
A15: Purchase Price Per Unit (for comparison) | B15: ='Vista Ridge Assumptions'!$B$15 -> 406593
A17: UNLEVERED CASH FLOWS
B19: Year 0 | C19: Year 1 | D19: Year 2 | E19: Year 3 | F19: Year 4 | G19: Year 5
A20: Initial Investment (Total Uses) | B20: =-'S&U + Debt Schedule'!B10 -> -39740000 | C20: ='S&U + Debt Schedule'!C10 -> 0 | D20: ='S&U + Debt Schedule'!D10 -> 0 | E20: ='S&U + Debt Schedule'!E10 -> 0 | F20: ='S&U + Debt Schedule'!F10 -> 0 | G20: 0
A21: NOI (from Operating Model) | B21: 0 | C21: ='Operating Model'!C28 -> 2270198.2 | D21: ='Operating Model'!D28 -> 2438202.7 | E21: ='Operating Model'!E28 -> 2562936.4 | F21: ='Operating Model'!F28 -> 2652233.7 | G21: ='Operating Model'!G28 -> 2744822.6
A22: (-) Routine CapEx | B22: 0 | C22: =-'Operating Model'!C32 -> -28119 | D22: =-'Operating Model'!D32 -> -28962.57 | E22: =-'Operating Model'!E32 -> -29831.447 | F22: =-'Operating Model'!F32 -> -30726.391 | G22: =-'Operating Model'!G32 -> -31648.182
A23: (+) Net Sale Proceeds at Exit | B23: 0 | C23: 0 | D23: 0 | E23: 0 | F23: 0 | G23: =B9 -> 52498063
A24: Total Unlevered Cash Flow | B24: =SUM(B20:B23) -> -39740000 | C24: =SUM(C20:C23) -> 2242079.2 | D24: =SUM(D20:D23) -> 2409240.1 | E24: =SUM(E20:E23) -> 2533104.9 | F24: =SUM(F20:F23) -> 2621507.3 | G24: =SUM(G20:G23) -> 55211238
A26: Unlevered IRR | B26: =IRR(B24:G24) -> 0.11356303
A27: Unlevered MOIC | B27: =SUM(C24:G24)/(-B24) -> 1.6360636
A28: Total Cash Returned | B28: =SUM(C24:G24) -> 65017169
A29: Total Cash Invested | B29: =-B24 -> 39740000
A31: LEVERED CASH FLOWS
B33: Year 0 | C33: Year 1 | D33: Year 2 | E33: Year 3 | F33: Year 4 | G33: Year 5
A34: Initial Equity Investment | B34: =-'S&U + Debt Schedule'!B14 -> -17540000 | C34: =-'S&U + Debt Schedule'!C14 -> 0 | D34: =-'S&U + Debt Schedule'!D14 -> 0 | E34: =-'S&U + Debt Schedule'!E14 -> 0 | F34: =-'S&U + Debt Schedule'!F14 -> 0 | G34: =-'S&U + Debt Schedule'!G14 -> 0
A35: NOI (from Operating Model) | B35: 0 | C35: ='Operating Model'!C28 -> 2270198.2 | D35: ='Operating Model'!D28 -> 2438202.7 | E35: ='Operating Model'!E28 -> 2562936.4 | F35: ='Operating Model'!F28 -> 2652233.7 | G35: ='Operating Model'!G28 -> 2744822.6
A36: (-) Routine CapEx | B36: 0 | C36: =-'Operating Model'!C32 -> -28119 | D36: =-'Operating Model'!D32 -> -28962.57 | E36: =-'Operating Model'!E32 -> -29831.447 | F36: =-'Operating Model'!F32 -> -30726.391 | G36: =-'Operating Model'!G32 -> -31648.182
A37: (-) Debt Service | B37: 0 | C37: =-'S&U + Debt Schedule'!C31 -> -1298700 | D37: =-'S&U + Debt Schedule'!D31 -> -1298700 | E37: =-'S&U + Debt Schedule'!E31 -> -1587005.2 | F37: =-'S&U + Debt Schedule'!F31 -> -1587005.2 | G37: =-'S&U + Debt Schedule'!G31 -> -1587005.2
A38: Net Equity Proceeds | B38: 0 | C38: 0 | D38: 0 | E38: 0 | F38: 0 | G38: =B11 -> 31214563
A39: Total Levered Cash Flow | B39: =SUM(B34:B38) -> -17540000 | C39: =SUM(C34:C38) -> 943379.21 | D39: =SUM(D34:D38) -> 1110540.1 | E39: =SUM(E34:E38) -> 946099.75 | F39: =SUM(F34:F38) -> 1034502.1 | G39: =SUM(G34:G38) -> 32340732
A41: Levered IRR | B41: =IRR(B39:G39) -> 0.16958184
A42: Levered MOIC | B42: =SUM(C39:G39)/(-B39) -> 2.0738457
A43: Total Cash Returned | B43: =SUM(C39:G39) -> 36375254
A44: Total Equity Invested | B44: =-B39 -> 17540000
A46: CASH-ON-CASH YIELD
C47: Year 1 | D47: Year 2 | E47: Year 3 | F47: Year 4 | G47: Year 5
A49: Operating Levered Cash Flow | C49: =C35+C36+C37 -> 943379.21 | D49: =D35+D36+D37 -> 1110540.1 | E49: =E35+E36+E37 -> 946099.75 | F49: =F35+F36+F37 -> 1034502.1 | G49: =G35+G36+G37 -> 1126169.2
A50: Initial Equity Investment | C50: ='S&U + Debt Schedule'!$B$14 -> 17540000 | D50: ='S&U + Debt Schedule'!$B$14 -> 17540000 | E50: ='S&U + Debt Schedule'!$B$14 -> 17540000 | F50: ='S&U + Debt Schedule'!$B$14 -> 17540000 | G50: ='S&U + Debt Schedule'!$B$14 -> 17540000
A51: Cash-on-Cash Yield | C51: =C49/C50 -> 0.053784447 | D51: =D49/D50 -> 0.063314716 | E51: =E49/E50 -> 0.053939552 | F51: =F49/F50 -> 0.058979595 | G51: =G49/G50 -> 0.064205771
...

Sheet Investment Summary
A1: VISTA RIDGE APARTMENTS - INVESTMENT SUMMARY
A3: DEAL OVERVIEW
A4: Property Name | B4: ='Vista Ridge Assumptions'!B6 -> Vista Ridge Apartments
A5: Address | B5: ='Vista Ridge Assumptions'!B7 -> 201 Mt Park Blvd SW, Issaquah, WA 98027
A6: Submarket | B6: Olde Town Issaquah / Eastside
A7: Property Type | B7: Class B Garden-Style Multifamily
A8: Year Built | B8: ='Vista Ridge Assumptions'!B8 -> 1994
A9: Total Units | B9: ='Vista Ridge Assumptions'!B9 -> 91
A10: Total NRSF | B10: ='Vista Ridge Assumptions'!B10 -> 100646
A12: TRANSACTION
A13: Purchase Price | B13: ='Vista Ridge Assumptions'!B14 -> 37000000
A14: Purchase Price Per Unit | B14: ='Vista Ridge Assumptions'!B15 -> 406593
A15: Going-In Cap Rate | B15: ='Operating Model'!B28/'Vista Ridge Assumptions'!B14 -> 0.058353811
A16: Broker | B16: IPA (Marcus & Millichap)
A18: INVESTMENT SUMMARY
A19: Strategy Type | B19: Classic Value Add, 5-Year Hold
A20: Hold Period (Years) | B20: ='Vista Ridge Assumptions'!B56 -> 5
A21: Units to Renovate | B21: ='Vista Ridge Rent Roll & Renovat'!B26 -> 55
A22: Interior Reno Cost Per Unit | B22: ='Vista Ridge Rent Roll & Renovat'!E22/'Vista Ridge Rent Roll & Renovat'!B26 -> 20000
A23: Target Rent Premium (Per Unit) | B23: ='Vista Ridge Assumptions'!B40 -> 275
A25: KEY RETURNS METRICS
A26: Unlevered IRR | B26: =Returns!B60 -> 0.11356303
A27: Levered IRR | B27: =Returns!B62 -> 0.16958184
A28: Unlevered MOIC | B28: =Returns!B61 -> 1.6360636
A29: Levered MOIC | B29: =Returns!B63 -> 2.0738457
A30: Average Cash-on-Cash | B30: =Returns!B64 -> 0.058844816
A32: CAPITAL STACK
A33: Senior Debt | B33: ='Vista Ridge Assumptions'!B44 -> 22200000
A34: Total Equity | B34: ='S&U + Debt Schedule'!B14 -> 17540000
A35: Total Capitalization | B35: =B33+B34 -> 39740000
A36: LTV (Loan / Purchase Price) | B36: =B33/'Vista Ridge Assumptions'!B14 -> 0.6
A37: LTC (Loan / Total Cost) | B37: ='S&U + Debt Schedule'!B19 -> 0.5586311
A38: Interest Rate | B38: ='Vista Ridge Assumptions'!B45 -> 0.0585
A40: EXIT SUMMARY
A41: Year 5 Stabilized NOI | B41: ='Operating Model'!G28 -> 2744822.6
A42: Exit Cap Rate | B42: =Returns!B59 -> 0.0515
A43: Gross Sale Price | B43: =Returns!B56 -> 53297526
A44: Sale Price Per Unit | B44: =Returns!B14 -> 585687.1
A45: Total Value Created | B45: =Returns!B13 -> 16297526
A47: INVESTMENT HIGHLIGHTS
...
