Workbook

Sheet Assumptions
A1: INVITED CLUBS LBO - ASSUMPTIONS
A2: Prepared by: | B2: Nik Wittenfeld
A3: Date: | B3: 46296
A5: DEAL OVERVIEW
A6: Target Company | B6: Invited Clubs
A7: Industry | B7: Private Club Operator (Golf)
A8: Headquarters | B8: Dallas, TX
A9: CEO | B9: David Pillsbury
A10: Total Clubs | B10: 150
A11: Total Members | B11: 430000
A12: Total Employees | B12: 20000
A14: TRANSACTION TERMS
A15: Purchase Price (Enterprise Value) | B15: 2600000000
A16: 2025 LTM EBITDA | B16: 350000000
A17: Entry Multiple (EV / EBITDA) | B17: =B15/B16 -> 7.4285714
A18: Close Date | B18: 46204
A19: Buyer | B19: KSL Capital Partners
A20: Seller | B20: Apollo Global Management
A21: Transaction Fees (& of EV) | B21: 0.02
A22: Transaction Fees ($) | B22: =B21*B15 -> 52000000
A23: Total Uses | B23: =B15+B22 -> 2652000000
A25: OPERATIONAL METRICS (2025 BASELINE)
A26: 2025 Revenue (estimated) | B26: 1500000000
A27: 2025 EBITDA Margin | B27: =B16/B26 -> 0.23333333
A28: Revenue per Member | B28: =B26/B11 -> 3488.3721
A29: EBITDA per Club | B29: =B16/B10 -> 2333333.3
A31: GROWTH ASSUMPTIONS
A32: Revenue Growth (Y1) | B32: 0.04
A33: Revenue Growth (Y2-Y6) | B33: 0.045
A34: EBITDA Margin Expansion (per year, bps) | B34: 25
A35: Member Growth (annual) | B35: 0.015
A37: CAPITAL STRUCTURE
A38: Senior Debt | B38: 1700000000
A39: Sponsor Equity | B39: =B23-B38 -> 952000000
A40: Debt / EBITDA | B40: =B38/B16 -> 4.8571429
A41: Debt / Total Uses (LTC) | B41: =B38/B23 -> 0.64102564
A43: DEBT TERMS
A44: Lender | B44: Ares Credit (lead)
A45: Debt Type | B45: First-Lien Private Credit
A46: SOFR Rate (current) | B46: 0.0465
...

Sheet Operating Model
A1: INVITED CLUBS LBO - 6-YEAR OPERATING MODEL
A3: PRO FORMA
B5: Year 0 (2025) | C5: Year 1 (2026) | D5: Year 2 (2027) | E5: Year 3 (2028) | F5: Year 4 (2029) | G5: Year 5 (2030) | H5: Year 6 (2031)
A7: REVENUE
A8: Revenue | B8: =Assumptions!B26 -> 1500000000 | C8: =B8*(1+Assumptions!$B$32) -> 1560000000 | D8: =C8*(1+Assumptions!$B$33) -> 1630200000 | E8: =D8*(1+Assumptions!$B$33) -> 1703559000 | F8: =E8*(1+Assumptions!$B$33) -> 1.7802192e+09 | G8: =F8*(1+Assumptions!$B$33) -> 1.860329e+09 | H8: =G8*(1+Assumptions!$B$33) -> 1.9440438e+09
A9: Revenue Growth % | B9: - | C9: =C8/B8-1 -> 0.04 | D9: =D8/C8-1 -> 0.045 | E9: =E8/D8-1 -> 0.045 | F9: =F8/E8-1 -> 0.045 | G9: =G8/F8-1 -> 0.045 | H9: =H8/G8-1 -> 0.045
A11: EBITDA
A12: EBITDA Margin % | B12: =Assumptions!B27 -> 0.23333333 | C12: =B12+Assumptions!$B$34/10000 -> 0.23583333 | D12: =C12+Assumptions!$B$34/10000 -> 0.23833333 | E12: =D12+Assumptions!$B$34/10000 -> 0.24083333 | F12: =E12+Assumptions!$B$34/10000 -> 0.24333333 | G12: =F12+Assumptions!$B$34/10000 -> 0.24583333 | H12: =G12+Assumptions!$B$34/10000 -> 0.24833333
A13: EBITDA | B13: =B8*B12 -> 350000000 | C13: =C8*C12 -> 367900000 | D13: =D8*D12 -> 388531000 | E13: =E8*E12 -> 4.1027379e+08 | F13: =F8*F12 -> 4.3318666e+08 | G13: =G8*G12 -> 4.5733088e+08 | H13: =H8*H12 -> 4.8277088e+08
A14: EBITDA Growth % | B14: - | C14: =C13/B13-1 -> 0.051142857 | D14: =D13/C13-1 -> 0.056077739 | E14: =E13/D13-1 -> 0.055961538 | F14: =F13/E13-1 -> 0.055847751 | G14: =G13/F13-1 -> 0.055736301 | H14: =H13/G13-1 -> 0.055627119
A16: CAPITAL EXPENDITURES
A17: Maintenance CapEx | B17: =-B8*Assumptions!$B$53 -> -75000000 | C17: =-C8*Assumptions!$B$53 -> -78000000 | D17: =-D8*Assumptions!$B$53 -> -81510000 | E17: =-E8*Assumptions!$B$53 -> -85177950 | F17: =-F8*Assumptions!$B$53 -> -89010958 | G17: =-G8*Assumptions!$B$53 -> -93016451 | H17: =-H8*Assumptions!$B$53 -> -97202191
A18: Growth CapEx | B18: =-B8*Assumptions!$B$54 -> -30000000 | C18: =-C8*Assumptions!$B$54 -> -31200000 | D18: =-D8*Assumptions!$B$54 -> -32604000 | E18: =-E8*Assumptions!$B$54 -> -34071180 | F18: =-F8*Assumptions!$B$54 -> -35604383 | G18: =-G8*Assumptions!$B$54 -> -37206580 | H18: =-H8*Assumptions!$B$54 -> -38880876
A19: Total CapEx | B19: =B17+B18 -> -105000000 | C19: =C17+C18 -> -109200000 | D19: =D17+D18 -> -114114000 | E19: =E17+E18 -> -119249130 | F19: =F17+F18 -> -1.2461534e+08 | G19: =G17+G18 -> -1.3022303e+08 | H19: =H17+H18 -> -1.3608307e+08
A22: UNLEVERED FREE CASH FLOW
A23: EBITDA | B23: =B13 -> 350000000 | C23: =C13 -> 367900000 | D23: =D13 -> 388531000 | E23: =E13 -> 4.1027379e+08 | F23: =F13 -> 4.3318666e+08 | G23: =G13 -> 4.5733088e+08 | H23: =H13 -> 4.8277088e+08
A24: (-) Total CapEx | B24: =B19 -> -105000000 | C24: =C19 -> -109200000 | D24: =D19 -> -114114000 | E24: =E19 -> -119249130 | F24: =F19 -> -1.2461534e+08 | G24: =G19 -> -1.3022303e+08 | H24: =H19 -> -1.3608307e+08
A25: (-) Change in Working Capital | B25: 0 | C25: =-(C8-B8)*Assumptions!$B$55 -> -1200000 | D25: =-(D8-C8)*Assumptions!$B$55 -> -1404000 | E25: =-(E8-D8)*Assumptions!$B$55 -> -1467180 | F25: =-(F8-E8)*Assumptions!$B$55 -> -1533203.1 | G25: =-(G8-F8)*Assumptions!$B$55 -> -1602197.2 | H25: =-(H8-G8)*Assumptions!$B$55 -> -1674296.1
A26: Unlevered Free Cash Flow | B26: =B23+B24+B25 -> 245000000 | C26: =C23+C24+C25 -> 257500000 | D26: =D23+D24+D25 -> 273013000 | E26: =E23+E24+E25 -> 2.8955748e+08 | F26: =F23+F24+F25 -> 3.0703812e+08 | G26: =G23+G24+G25 -> 3.2550565e+08 | H26: =H23+H24+H25 -> 3.4501352e+08
A28: OPERATIONAL METRICS
A29: Member Count | B29: =Assumptions!B11 -> 430000 | C29: =B29*(1+Assumptions!$B$35) -> 436450 | D29: =C29*(1+Assumptions!$B$35) -> 442996.75 | E29: =D29*(1+Assumptions!$B$35) -> 449641.7 | F29: =E29*(1+Assumptions!$B$35) -> 456386.33 | G29: =F29*(1+Assumptions!$B$35) -> 463232.12 | H29: =G29*(1+Assumptions!$B$35) -> 470180.6
A30: Revenue per Member | B30: =B8/B29 -> 3488.3721 | C30: =C8/C29 -> 3574.2926 | D30: =D8/D29 -> 3679.9367 | E30: =E8/E29 -> 3788.7033 | F30: =F8/F29 -> 3900.6847 | G30: =G8/G29 -> 4015.9759 | H30: =H8/H29 -> 4134.6747
A31: EBITDA per Club | B31: =B13/Assumptions!$B$10 -> 2333333.3 | C31: =C13/Assumptions!$B$10 -> 2452666.7 | D31: =D13/Assumptions!$B$10 -> 2590206.7 | E31: =E13/Assumptions!$B$10 -> 2735158.6 | F31: =F13/Assumptions!$B$10 -> 2887911.1 | G31: =G13/Assumptions!$B$10 -> 3048872.6 | H31: =H13/Assumptions!$B$10 -> 3218472.6

Sheet Sources & Uses + Debt Schedule
A1: INVITED CLUBS LBO - SOURCES & USES + DEBT SCHEDULE
A3: SOURCES & USES
A5: USES
A6: Purchase Price (Enterprise Value) | B6: =Assumptions!B15 -> 2600000000
A7: Transaction Fees (2%) | B7: =Assumptions!B22 -> 52000000
A8: Total Uses | B8: =SUM(B6:B7) -> 2652000000
A10: SOURCES
A11: Senior Debt (Ares Private Credit) | B11: =Assumptions!B38 -> 1700000000
A12: Sponsor Equity (KSL + Spieth) | B12: =Assumptions!B39 -> 952000000
A13: Total Sources | B13: =B11+B12 -> 2652000000
A14: Check (Sources - Uses) | B14: =B13-B8 -> 0
A16: KEY DEAL METRICS
A17: Entry Multiple (EV / 2025 EBITDA) | B17: =B6/Assumptions!B16 -> 7.4285714
A18: Debt / EBITDA (Opening Leverage) | B18: =B6/B13 -> 0.98039216
A19: Debt / Total Capitilization | B19: =B11/B13 -> 0.64102564
A20: Equity as % of Total | B20: =B12/B13 -> 0.35897436
A22: DEBT SCHEDULE
B24: Loan Origination | C24: Year 1 (2026) | D24: Year 2 (2027) | E24: Year 3 (2028) | F24: Year 4 (2029) | G24: Year 5 (2030) | H24: Year 6 (2031)
A25: Beginning Balance | B25: 0 | C25: =B11 -> 1700000000 | D25: =C29 -> 1643712500 | E25: =D29 -> 1.5769878e+09 | F25: =E29 -> 1.4988131e+09 | G25: =F29 -> 1.408175e+09 | H25: =G29 -> 1.3039865e+09
A26: (-) Interest Expense | B26: 0 | C26: =-C25*Assumptions!$B$48 -> -161925000 | D26: =-D25*Assumptions!$B$48 -> -1.5656362e+08 | E26: =-E25*Assumptions!$B$48 -> -1.5020809e+08 | F26: =-F25*Assumptions!$B$48 -> -1.4276195e+08 | G26: =-G25*Assumptions!$B$48 -> -1.3412867e+08 | H26: =-H25*Assumptions!$B$48 -> -1.2420472e+08
A27: (-) Mandatory Amortization | B27: 0 | C27: =-$B$11*Assumptions!$B$49 -> -17000000 | D27: =-$B$11*Assumptions!$B$49 -> -17000000 | E27: =-$B$11*Assumptions!$B$49 -> -17000000 | F27: =-$B$11*Assumptions!$B$49 -> -17000000 | G27: =-$B$11*Assumptions!$B$49 -> -17000000 | H27: =-$B$11*Assumptions!$B$49 -> -17000000
A28: (-) Cash Sweep (50% of Excess FCF) | B28: 0 | C28: =-MIN(MAX(0,('Operating Model'!C26+C26+C27)*0.5), C25+C27) -> -39287500 | D28: =-MIN(MAX(0,('Operating Model'!D26+D26+D27)*0.5), D25+D27) -> -49724692 | E28: =-MIN(MAX(0,('Operating Model'!E26+E26+E27)*0.5), E25+E27) -> -61174697 | F28: =-MIN(MAX(0,('Operating Model'!F26+F26+F27)*0.5), F25+F27) -> -73638084 | G28: =-MIN(MAX(0,('Operating Model'!G26+G26+G27)*0.5), G25+G27) -> -87188492 | H28: =-MIN(MAX(0,('Operating Model'!H26+H26+H27)*0.5), H25+H27) -> -1.019044e+08
A29: Ending Balance | B29: 0 | C29: =C25+C27+C28 -> 1643712500 | D29: =D25+D27+D28 -> 1.5769878e+09 | E29: =E25+E27+E28 -> 1.4988131e+09 | F29: =F25+F27+F28 -> 1.408175e+09 | G29: =G25+G27+G28 -> 1.3039865e+09 | H29: =H25+H27+H28 -> 1.1850821e+09
A31: Total Debt Service (Interest + Principal) | B31: 0 | C31: =C26+C27+C28 -> -218212500 | D31: =D26+D27+D28 -> -2.2328831e+08 | E31: =E26+E27+E28 -> -2.2838279e+08 | F31: =F26+F27+F28 -> -2.3340003e+08 | G31: =G26+G27+G28 -> -2.3831716e+08 | H31: =H26+H27+H28 -> -2.4310912e+08
A32: Debt / EBITDA (End of Year) | B32: =B11/Assumptions!B16 -> 4.8571429 | C32: =C29/'Operating Model'!C13 -> 4.4678241 | D32: =D29/'Operating Model'!D13 -> 4.0588468 | E32: =E29/'Operating Model'!E13 -> 3.6532022 | F32: =F29/'Operating Model'!F13 -> 3.250735 | G32: =G29/'Operating Model'!G13 -> 2.8512978 | H32: =H29/'Operating Model'!H13 -> 2.4547506
A34: COVERAGE RATIOS
A35: EBITDA | B35: 0 | C35: ='Operating Model'!C13 -> 367900000 | D35: ='Operating Model'!D13 -> 388531000 | E35: ='Operating Model'!E13 -> 4.1027379e+08 | F35: ='Operating Model'!F13 -> 4.3318666e+08 | G35: ='Operating Model'!G13 -> 4.5733088e+08 | H35: ='Operating Model'!H13 -> 4.8277088e+08
A36: Interest Expense (positive) | B36: 0 | C36: =-C26 -> 161925000 | D36: =-D26 -> 1.5656362e+08 | E36: =-E26 -> 1.5020809e+08 | F36: =-F26 -> 1.4276195e+08 | G36: =-G26 -> 1.3412867e+08 | H36: =-H26 -> 1.2420472e+08
A37: Interest Coverage Ratio (EBITDA / Interest) | B37: 0 | C37: =C35/C36 -> 2.2720395 | D37: =D35/D36 -> 2.4816174 | E37: =E35/E36 -> 2.7313695 | F37: =F35/F36 -> 3.0343286 | G37: =G35/G36 -> 3.409643 | H37: =H35/H36 -> 3.8868965
A38: Mandatory Debt Service (Interest + Amort) | B38: 0 | C38: =C36-C27 -> 178925000 | D38: =D36-D27 -> 1.7356362e+08 | E38: =E36-E27 -> 1.6720809e+08 | F38: =F36-F27 -> 1.5976195e+08 | G38: =G36-G27 -> 1.5112867e+08 | H38: =H36-H27 -> 1.4120472e+08
A39: Fixed Charge Coverage (EBITDA / Mandatory DS) | B39: 0 | C39: =C35/C38 -> 2.0561688 | D39: =D35/D38 -> 2.238551 | E39: =E35/E38 -> 2.4536719 | F39: =F35/F38 -> 2.7114508 | G39: =G35/G38 -> 3.0261027 | H39: =H35/H38 -> 3.418943
A41: EXIT LOAN PAYOFF
A42: Loan Balance at Exit (Year 6 Ending) | B42: =H29 -> 1.1850821e+09
A43: Total Principal Paid During Hold | B43: =C25-B42 -> 5.1491787e+08
A44: Principal Paid as % of Original Loan | B44: =B43/B42 -> 0.43449973

Sheet Returns
A1: INVITED CLUBS LBO - RETRUNS ANALYSIS
A3: EXIT VALUATION (YEAR 6 SALE)
A5: Year 6 Stabilized EBITDA | B5: ='Operating Model'!H13 -> 4.8277088e+08
A6: Exit Multiple (EV / EBITDA) | B6: =Assumptions!B59 -> 7
A7: Exit Enterprise Value | B7: =B5*B6 -> 3.3793962e+09
A8: (-) Transaction Costs (1.5%) | B8: =-B7*Assumptions!B60 -> -50690943
A9: Net Sale Proceeds | B9: =B7+B8 -> 3.3287052e+09
A10: (-) Loan Payoff at Exit | B10: =-'Sources & Uses + Debt Schedule'!B42 -> -1.1850821e+09
A11: Net Equity Proceeds at Exit | B11: =B9+B10 -> 2.1436231e+09
A13: Total Enterprise Value Created | B13: =B7-Assumptions!B15 -> 7.7939618e+08
A14: Value Creation Multiple (Exit EV / Entry EV) | B14: =B7/Assumptions!B15 -> 1.2997678
A15: Multiple Change (Entry > Exit) | B15: 7.43x > 7.0x
A17: UNLEVERED CASH FLOWS
B19: Year 0 | C19: Year 1 | D19: Year 2 | E19: Year 3 | F19: Year 4 | G19: Year 5 | H19: Year 6
A20: Initial Investment (Total Uses) | B20: =-'Sources & Uses + Debt Schedule'!B8 -> -2652000000 | C20: 0 | D20: 0 | E20: 0 | F20: 0 | G20: 0 | H20: 0
A21: Unlevered Free Cash Flow | B21: 0 | C21: ='Operating Model'!C26 -> 257500000 | D21: ='Operating Model'!D26 -> 273013000 | E21: ='Operating Model'!E26 -> 2.8955748e+08 | F21: ='Operating Model'!F26 -> 3.0703812e+08 | G21: ='Operating Model'!G26 -> 3.2550565e+08 | H21: ='Operating Model'!H26 -> 3.4501352e+08
A22: (+) Net Sale Proceeds at Exit | B22: 0 | C22: 0 | D22: 0 | E22: 0 | F22: 0 | G22: 0 | H22: =B9 -> 3.3287052e+09
A23: Total Unlevered Cash Flow | B23: =B20+B21+B22 -> -2652000000 | C23: =C20+C21+C22 -> 257500000 | D23: =D20+D21+D22 -> 273013000 | E23: =E20+E21+E22 -> 2.8955748e+08 | F23: =F20+F21+F22 -> 3.0703812e+08 | G23: =G20+G21+G22 -> 3.2550565e+08 | H23: =H20+H21+H22 -> 3.6737188e+09
A25: Unlevered IRR | B25: =IRR(B23:H23) -> 0.14035
A26: Unlevered MOIC | B26: =SUM(C23:H23)/(-B23) -> 1.9330064
A27: Total Cash Returned | B27: =SUM(C23:H23) -> 5.126333e+09
A28: Total Cash Invested | B28: =-B23 -> 2652000000
A30: LEVERED CASH FLOWS
B32: Year 0 | C32: Year 1 | D32: Year 2 | E32: Year 3 | F32: Year 4 | G32: Year 5 | H32: Year 6
A33: Initial Equity Investment | B33: =-'Sources & Uses + Debt Schedule'!B12 -> -952000000 | C33: 0 | D33: 0 | E33: 0 | F33: 0 | G33: 0 | H33: 0
A34: Unlevered Free Cash Flow | B34: 0 | C34: ='Operating Model'!C26 -> 257500000 | D34: ='Operating Model'!D26 -> 273013000 | E34: ='Operating Model'!E26 -> 2.8955748e+08 | F34: ='Operating Model'!F26 -> 3.0703812e+08 | G34: ='Operating Model'!G26 -> 3.2550565e+08 | H34: ='Operating Model'!H26 -> 3.4501352e+08
A35: (-) Interest Expense | B35: 0 | C35: ='Sources & Uses + Debt Schedule'!C26 -> -161925000 | D35: ='Sources & Uses + Debt Schedule'!D26 -> -1.5656362e+08 | E35: ='Sources & Uses + Debt Schedule'!E26 -> -1.5020809e+08 | F35: ='Sources & Uses + Debt Schedule'!F26 -> -1.4276195e+08 | G35: ='Sources & Uses + Debt Schedule'!G26 -> -1.3412867e+08 | H35: ='Sources & Uses + Debt Schedule'!H26 -> -1.2420472e+08
A36: (-) Mandatory Amortization | B36: 0 | C36: ='Sources & Uses + Debt Schedule'!C27 -> -17000000 | D36: ='Sources & Uses + Debt Schedule'!D27 -> -17000000 | E36: ='Sources & Uses + Debt Schedule'!E27 -> -17000000 | F36: ='Sources & Uses + Debt Schedule'!F27 -> -17000000 | G36: ='Sources & Uses + Debt Schedule'!G27 -> -17000000 | H36: ='Sources & Uses + Debt Schedule'!H27 -> -17000000
A37: (-) Cash Sweep | B37: 0 | C37: ='Sources & Uses + Debt Schedule'!C28 -> -39287500 | D37: ='Sources & Uses + Debt Schedule'!D28 -> -49724692 | E37: ='Sources & Uses + Debt Schedule'!E28 -> -61174697 | F37: ='Sources & Uses + Debt Schedule'!F28 -> -73638084 | G37: ='Sources & Uses + Debt Schedule'!G28 -> -87188492 | H37: ='Sources & Uses + Debt Schedule'!H28 -> -1.019044e+08
A38: Residual Cash Flow to Equity | B38: 0 | C38: =C34+C35+C36+C37 -> 39287500 | D38: =D34+D35+D36+D37 -> 49724692 | E38: =E34+E35+E36+E37 -> 61174697 | F38: =F34+F35+F36+F37 -> 73638084 | G38: =G34+G35+G36+G37 -> 87188492 | H38: =H34+H35+H36+H37 -> 1.019044e+08
A39: (+) Net Equity Proceeds at Exit | B39: 0 | C39: 0 | D39: 0 | E39: 0 | F39: 0 | G39: 0 | H39: =B11 -> 2.1436231e+09
A40: Total Levered Cash Flow | B40: =B33+B38+B39 -> -952000000 | C40: =C33+C38+C39 -> 39287500 | D40: =D33+D38+D39 -> 49724692 | E40: =E33+E38+E39 -> 61174697 | F40: =F33+F38+F39 -> 73638084 | G40: =G33+G38+G39 -> 87188492 | H40: =H33+H38+H39 -> 2.2455275e+09
A42: Levered IRR | B42: =IRR(B40:H40) -> 0.19373875
A43: Levered MOIC | B43: =SUM(C40:H40)/(-B40) -> 2.6854422
A44: Total Equity Returned | B44: =SUM(C40:H40) -> 2.556541e+09
A45: Total Equity Invested | B45: =-B40 -> 952000000

Sheet RETURNS BRIDGE
A1: INVITED CLUBS LBO - RETURNS BRIDGE (VALUE CREATION DECOMPOSITION)
A3: ENTRY STATE (JULY 2026)
A4: Entry Enterprise Value (Purchase Price) | B4: =Assumptions!B15 -> 2600000000
A5: Entry EBITDA (2025 LTM) | B5: =Assumptions!B16 -> 350000000
A6: Entry Multiple (EV / EBITDA) | B6: =B4/B5 -> 7.4285714
A7: Starting Debt | B7: =Assumptions!B38 -> 1700000000
A8: Starting Equity Value (EV - Debt) | B8: =B4-B7 -> 900000000
A10: EXIT STATE (JULY 2032 - YEAR 6)
A11: Exit Enterprise Value (Y6 EBITDA x Exit Multiple) | B11: =Returns!B7 -> 3.3793962e+09
A12: Exit EBITDA (Year 6) | B12: ='Operating Model'!H13 -> 4.8277088e+08
A13: Exit Multiple (EV / EBITDA) | B13: =Assumptions!B59 -> 7
A14: Ending Debt | B14: ='Sources & Uses + Debt Schedule'!B42 -> 1.1850821e+09
A15: (-) Transaction Costs at Exit | B15: =Returns!B8 -> -50690943
A16: Exit Equity Value (EV - Debt - Costs) | B16: =B11-B14+B15 -> 2.1436231e+09
A17: Entry Transaction Fees (Y0) | B17: =-Assumptions!B22 -> -52000000
A19: VALUE CREATION BRIDGE (STARTING EQUITY > EXIT EQUITY)
A21: Starting Equity Value | B21: =B8 -> 900000000
A22: (+) EBITDA Growth Impact | B22: =(B12-B5)*B13 -> 9.2939618e+08
A23: (+/-) Multiple Change Impact | B23: =B5*(B13-B6) -> -1.5e+08
A24: (+) Debt Paydown Impact | B24: =B7-B14 -> 5.1491787e+08
A25: Subtotal: Business + Capital Structure Impact | B25: =B21+B22+B23+B24 -> 2.194314e+09
A26: (-) Exit Transaction Costs | B26: =B15 -> -50690943
A27: Exit Equity Value | B27: =+B25+B26 -> 2.1436231e+09
A29: Check
B30: =B27-B16 -> 0
A31: % ATTRIBUTION OF VALUE CREATION (GROSS)
A32: EBITDA Growth | B32: =B22/(B22+B23+B24) -> 0.7180608
A33: Multiple Change | B33: =B23/(B22+B23+B24) -> -0.1158915
A34: Debt Paydown | B34: =B24/(B22+B23+B24) -> 0.3978307
A35: Total | B35: =B32+B33+B34 -> 1

Sheet Investment Summary
A1: INVITED CLUBS LBO - INVESTMENT SUMMARY
A3: DEAL OVERVIEW
A4: Company | B4: =Assumptions!B6 -> Invited Clubs
A5: Industry | B5: =Assumptions!B7 -> Private Club Operator (Golf)
A6: Hedquarters | B6: =Assumptions!B8 -> Dallas, TX
A7: CEO | B7: =Assumptions!B9 -> David Pillsbury
A8: Total Clubs | B8: =Assumptions!B10 -> 150
A9: Total Members | B9: =Assumptions!B11 -> 430000
A10: Total Employees | B10: =Assumptions!B12 -> 20000
A12: TRANSACTION
A13: Purchase Price (Enterprise Value) | B13: =Assumptions!B15 -> 2600000000
A14: 2025 LTM EBITDA | B14: =Assumptions!B16 -> 350000000
A15: Entry Multiple (EV / EBITDA) | B15: =Assumptions!B17 -> 7.4285714
A16: Close Date | B16: =Assumptions!B18 -> 46204
A17: Buyer | B17: =Assumptions!B19 -> KSL Capital Partners
A18: Seller | B18: =Assumptions!B20 -> Apollo Global Management
A20: INVESTMENT STRATEGY
A21: Strategy Type | B21: Platfrom Acquisition / Secondary PE Buyout
A22: Hold Period (Years) | B22: =Assumptions!B58 -> 6
A23: Thesis | B23: Reacquisition from Apollo; combine with Heritage Golf Group for scale and synergies
A25: CAPITAL STRUCTURE
A26: Senior Debt (Ares Private Credit) | B26: ='Sources & Uses + Debt Schedule'!B11 -> 1700000000
A27: Sponsor Equity (KSL + Spieth) | B27: ='Sources & Uses + Debt Schedule'!B12 -> 952000000
A28: Total Capitalization | B28: =B26+B27 -> 2652000000
A29: Debt / EBITDA | B29: ='Sources & Uses + Debt Schedule'!B18 -> 0.98039216
A30: All-In Interest Rate | B30: =Assumptions!B48 -> 0.09525
A32: KEY RETURNS METRICS
A33: Unlevered IRR | B33: =Returns!B25 -> 0.14035
A34: Levered IRR | B34: =Returns!B42 -> 0.19373875
A35: Unlevered MOIC | B35: =Returns!B26 -> 1.9330064
A36: Levered MOIC | B36: =Returns!B43 -> 2.6854422
A38: EXIT SUMMARY (YEAR 6)
A39: Year 6 Stablized EBITDA | B39: =Returns!B5 -> 4.8277088e+08
A40: Exit Multiple (EV / EBITDA) | B40: =Returns!B6 -> 7
A41: Exit Enterprise Value | B41: =Returns!B7 -> 3.3793962e+09
A42: Net Equity Proceeds at Exit | B42: =Returns!B11 -> 2.1436231e+09
A43: Debt Paydown During Hold | B43: ='Sources & Uses + Debt Schedule'!B43 -> 5.1491787e+08
A44: Y6 Leverage (Debt / EBITDA) | B44: ='Sources & Uses + Debt Schedule'!H32 -> 2.4547506
A46: VALUE CREATION BREAKDOWN
A47: EBITDA Growth Contribution | B47: ='RETURNS BRIDGE'!B22 -> 9.2939618e+08
...
